BEGIN:VCALENDAR
VERSION:2.0
PRODID:-//Age Connects Torfaen - ECPv6.6.2//NONSGML v1.0//EN
CALSCALE:GREGORIAN
METHOD:PUBLISH
X-ORIGINAL-URL:https://ageconnectstorfaen.org.uk
X-WR-CALDESC:Events for Age Connects Torfaen
REFRESH-INTERVAL;VALUE=DURATION:PT1H
X-Robots-Tag:noindex
X-PUBLISHED-TTL:PT1H
BEGIN:VTIMEZONE
TZID:UTC
BEGIN:STANDARD
TZOFFSETFROM:+0000
TZOFFSETTO:+0000
TZNAME:UTC
DTSTART:20240101T000000
END:STANDARD
END:VTIMEZONE
BEGIN:VEVENT
DTSTART;TZID=UTC:20240313T130000
DTEND;TZID=UTC:20240313T150000
DTSTAMP:20260420T015504
CREATED:20240222T115423Z
LAST-MODIFIED:20240222T115423Z
UID:3469-1710334800-1710342000@ageconnectstorfaen.org.uk
SUMMARY:Ceramics Class
DESCRIPTION:Join us every Wednesday for a relaxing ceramics class. This is a great way to explore ceramic decoration. We stock a wide variety of bisqueware\, which is pottery that has already been fired — or ‘bisqued’ – and is primed for decoration with glazes and underglazes. This means that in order to complete an easy ceramic project\, you simply select the item that you like and then paint it. We then dip the item in our kiln and it is ready for you to take home at your next class. \nWe have a range of bisque shapes available including; animal shapes\, money boxes\, vases\, tiles\, coaters\, dinosaurs\, cups\, mugs and plates.
URL:https://ageconnectstorfaen.org.uk/event/ceramics-class-52/
LOCATION:Widdershins Centre\, East Avenue\, Sebastopol\, Griffithstown\, Pontypool\, Torfaen\, NP45AB\, United Kingdom
ATTACH;FMTTYPE=image/jpeg:https://ageconnectstorfaen.org.uk/wp-content/uploads/2023/02/3.jpg
END:VEVENT
BEGIN:VEVENT
DTSTART;TZID=UTC:20240313T130000
DTEND;TZID=UTC:20240313T140000
DTSTAMP:20260420T015504
CREATED:20240222T114441Z
LAST-MODIFIED:20240222T114441Z
UID:3460-1710334800-1710338400@ageconnectstorfaen.org.uk
SUMMARY:Love to Sing Dementia Choir
DESCRIPTION:If you love singing……we’d love you to join us \nEvery Wednesday 1-2pm at the Widdershins Centre\, Sebastopol NP4 5AB \nYou won’t be asked to audition or read music \nAll you need is a love of singing and a willingness to learn some new songs. \nHave fun\, meet new people and enjoy using that hidden voice of yours. \nFor further details\, please contact Laura Rehman on \n01495 769264 \nlaura.rehman@ageconnectstorfaen.org
URL:https://ageconnectstorfaen.org.uk/event/love-to-sing-dementia-choir-53/
LOCATION:Widdershins Centre\, East Avenue\, Sebastopol\, Griffithstown\, Pontypool\, Torfaen\, NP45AB\, United Kingdom
ATTACH;FMTTYPE=image/jpeg:https://ageconnectstorfaen.org.uk/wp-content/uploads/2023/02/AVE0716-scaled.jpg
END:VEVENT
BEGIN:VEVENT
DTSTART;TZID=UTC:20240313T100000
DTEND;TZID=UTC:20240313T130000
DTSTAMP:20260420T015504
CREATED:20240222T105611Z
LAST-MODIFIED:20240222T105611Z
UID:3412-1710324000-1710334800@ageconnectstorfaen.org.uk
SUMMARY:Young onset Dementia Service- Zest for Life
DESCRIPTION:A supportive group for younger individuals. Suitable for those living with young onset dementia or cognitive impairment. \nWe welcome individuals and carers across Gwent.
URL:https://ageconnectstorfaen.org.uk/event/young-onset-dementia-service-zest-for-life-52/
LOCATION:Widdershins Centre\, East Avenue\, Sebastopol\, Griffithstown\, Pontypool\, Torfaen\, NP45AB\, United Kingdom
ATTACH;FMTTYPE=image/jpeg:https://ageconnectstorfaen.org.uk/wp-content/uploads/2023/02/IMG_2125-scaled.jpg
END:VEVENT
BEGIN:VEVENT
DTSTART;TZID=UTC:20240312T113000
DTEND;TZID=UTC:20240312T143000
DTSTAMP:20260420T015504
CREATED:20240222T102402Z
LAST-MODIFIED:20240222T102402Z
UID:3366-1710243000-1710253800@ageconnectstorfaen.org.uk
SUMMARY:Merry Moments Dementia Programme
DESCRIPTION:Our Merry Moments programme focuses on improving the mental health and emotional well being of older people with memory issues. \nOur programme activities include: \n\nCreative workshops\nGarden parties\nOutdoor sports\nMovies afternoon\nDementia dancing sessions\nLife story work\nAssistive technology\n\nWe get to know individuals by: \n\nMeeting the families\nChatting about hobbies\, finding out where you lived and went to school\nCompleting a personalised “Getting to know me” plan.
URL:https://ageconnectstorfaen.org.uk/event/merry-moments-dementia-programme-289/
LOCATION:Widdershins Centre\, East Avenue\, Sebastopol\, Griffithstown\, Pontypool\, Torfaen\, NP45AB\, United Kingdom
ATTACH;FMTTYPE=image/jpeg:https://ageconnectstorfaen.org.uk/wp-content/uploads/2023/03/image00013-scaled.jpg
END:VEVENT
BEGIN:VEVENT
DTSTART;TZID=UTC:20240312T113000
DTEND;TZID=UTC:20240312T140000
DTSTAMP:20260420T015505
CREATED:20240222T112938Z
LAST-MODIFIED:20240222T112938Z
UID:3444-1710243000-1710252000@ageconnectstorfaen.org.uk
SUMMARY:Befriending Hub- Ponthir
DESCRIPTION:Our befriending hubs are a great way of keeping older people active and involved in their local community. \nWe run weekly befriending hubs at Ponthir Village Hall\, located at focal points of the local community. They have disabled access and transport can be arranged on request. \nAll befriending hubs are open from 11.30-2.00pm \nA two course lunch club costs £7.00
URL:https://ageconnectstorfaen.org.uk/event/befriending-hub-ponthir-51/
LOCATION:Torfaen
ATTACH;FMTTYPE=image/jpeg:https://ageconnectstorfaen.org.uk/wp-content/uploads/2019/05/john-mark-smith-219066-unsplash.jpg
END:VEVENT
BEGIN:VEVENT
DTSTART;TZID=UTC:20240312T103000
DTEND;TZID=UTC:20240312T123000
DTSTAMP:20260420T015505
CREATED:20240222T113442Z
LAST-MODIFIED:20240222T113442Z
UID:3452-1710239400-1710246600@ageconnectstorfaen.org.uk
SUMMARY:Cake Decorating
DESCRIPTION:Join us every Tuesday for fun\, friendly and informative cake decorating classes with Val Landers. Val has over 50 years experience \nWe know that you  may not always have time to prepare for our classes\, so we have made sure that all you need to do is remember to turn up and we will provide everything you need\, plus you will never leave empty handed!
URL:https://ageconnectstorfaen.org.uk/event/cake-decorating-78/
LOCATION:Widdershins Centre\, East Avenue\, Sebastopol\, Griffithstown\, Pontypool\, Torfaen\, NP45AB\, United Kingdom
ATTACH;FMTTYPE=image/jpeg:https://ageconnectstorfaen.org.uk/wp-content/uploads/2023/02/image00034-scaled.jpg
END:VEVENT
BEGIN:VEVENT
DTSTART;TZID=UTC:20240312T100000
DTEND;TZID=UTC:20240312T130000
DTSTAMP:20260420T015505
CREATED:20240222T103543Z
LAST-MODIFIED:20240222T103543Z
UID:3389-1710237600-1710248400@ageconnectstorfaen.org.uk
SUMMARY:Merry Moments Dementia Programme
DESCRIPTION:Our Merry Moments programme focuses on improving the mental health and emotional well being of older people with memory issues. \nOur programme activities include: \n\nCreative workshops\nGarden parties\nOutdoor sports\nMovies afternoon\nDementia dancing sessions\nLife story work\nAssistive technology\n\nWe get to know individuals by: \n\nMeeting the families\nChatting about hobbies\, finding out where you lived and went to school\nCompleting a personalised “Getting to know me” plan.
URL:https://ageconnectstorfaen.org.uk/event/merry-moments-dementia-programme-301/
LOCATION:Widdershins Centre\, East Avenue\, Sebastopol\, Griffithstown\, Pontypool\, Torfaen\, NP45AB\, United Kingdom
ATTACH;FMTTYPE=image/jpeg:https://ageconnectstorfaen.org.uk/wp-content/uploads/2023/03/image00013-scaled.jpg
END:VEVENT
BEGIN:VEVENT
DTSTART;TZID=UTC:20240311T120000
DTEND;TZID=UTC:20240311T160000
DTSTAMP:20260420T015505
CREATED:20240222T111125Z
LAST-MODIFIED:20240222T111125Z
UID:3428-1710158400-1710172800@ageconnectstorfaen.org.uk
SUMMARY:Nail Cutting Surgery
DESCRIPTION:Many of us will develop some foot problems as we age. Over time it can become a significant health issue and impact our ability to get out and about. \nIn partnership with Aneurin Bevan Health Board\, we offer a professional nail cutting service to administer basic foot care services to older people. \nContact us to book an appointment at our Widdershins nail cutting surgery on 01495 769264
URL:https://ageconnectstorfaen.org.uk/event/nail-cutting-surgery-50/
LOCATION:Widdershins Centre\, East Avenue\, Sebastopol\, Griffithstown\, Pontypool\, Torfaen\, NP45AB\, United Kingdom
ATTACH;FMTTYPE=image/jpeg:https://ageconnectstorfaen.org.uk/wp-content/uploads/2023/02/Nail-cutting.jpg
END:VEVENT
BEGIN:VEVENT
DTSTART;TZID=UTC:20240311T120000
DTEND;TZID=UTC:20240311T140000
DTSTAMP:20260420T015505
CREATED:20240222T111945Z
LAST-MODIFIED:20240222T111945Z
UID:3436-1710158400-1710165600@ageconnectstorfaen.org.uk
SUMMARY:Fish & Chip Mondays
DESCRIPTION:Join us in the Bistro every Monday for home made Fish & Chips. \nOnly £6.00
URL:https://ageconnectstorfaen.org.uk/event/fish-chip-mondays-51/
LOCATION:Widdershins Centre\, East Avenue\, Sebastopol\, Griffithstown\, Pontypool\, Torfaen\, NP45AB\, United Kingdom
ATTACH;FMTTYPE=image/png:https://ageconnectstorfaen.org.uk/wp-content/uploads/2023/02/Fish-and-chips-post.png
END:VEVENT
BEGIN:VEVENT
DTSTART;TZID=UTC:20240311T113000
DTEND;TZID=UTC:20240311T143000
DTSTAMP:20260420T015505
CREATED:20240222T102336Z
LAST-MODIFIED:20240222T102336Z
UID:3364-1710156600-1710167400@ageconnectstorfaen.org.uk
SUMMARY:Merry Moments Dementia Programme
DESCRIPTION:Our Merry Moments programme focuses on improving the mental health and emotional well being of older people with memory issues. \nOur programme activities include: \n\nCreative workshops\nGarden parties\nOutdoor sports\nMovies afternoon\nDementia dancing sessions\nLife story work\nAssistive technology\n\nWe get to know individuals by: \n\nMeeting the families\nChatting about hobbies\, finding out where you lived and went to school\nCompleting a personalised “Getting to know me” plan.
URL:https://ageconnectstorfaen.org.uk/event/merry-moments-dementia-programme-288/
LOCATION:Widdershins Centre\, East Avenue\, Sebastopol\, Griffithstown\, Pontypool\, Torfaen\, NP45AB\, United Kingdom
ATTACH;FMTTYPE=image/jpeg:https://ageconnectstorfaen.org.uk/wp-content/uploads/2023/03/image00013-scaled.jpg
END:VEVENT
BEGIN:VEVENT
DTSTART;TZID=UTC:20240311T113000
DTEND;TZID=UTC:20240311T140000
DTSTAMP:20260420T015505
CREATED:20240222T110714Z
LAST-MODIFIED:20240222T110714Z
UID:3420-1710156600-1710165600@ageconnectstorfaen.org.uk
SUMMARY:Befriending Hub- Pontnewynydd
DESCRIPTION:Our befriending hubs are a great way of keeping older people active and involved in their local community. \nWe run weekly befriending hubs at Zion Hill Community Centre\, Pontnewynydd\, located at focal points of the local community. They have disabled access and transport can be arranged on request. \nAll befriending hubs are open from 11.30-2.00pm \nA two course lunch club costs £7.00
URL:https://ageconnectstorfaen.org.uk/event/befriending-hub-pontnewynydd-49/
LOCATION:Torfaen
ATTACH;FMTTYPE=image/jpeg:https://ageconnectstorfaen.org.uk/wp-content/uploads/2019/05/john-mark-smith-219066-unsplash.jpg
END:VEVENT
BEGIN:VEVENT
DTSTART;TZID=UTC:20240308T130000
DTEND;TZID=UTC:20240308T150000
DTSTAMP:20260420T015505
CREATED:20240222T135643Z
LAST-MODIFIED:20240222T135643Z
UID:3515-1709902800-1709910000@ageconnectstorfaen.org.uk
SUMMARY:Jewellery Making Class
DESCRIPTION:If you want to learn all the skills you need to create your very own handmade jewellery to perfectly complement your style then this class is for you. \nOur jewellery making courses are headed by an expert teacher who knows all the tips and tricks behind crafting amazing accessories to complete your look. They’ll guide you on every step of the crafting process\, showing you some of the best techniques used by the professionals along with how to make earrings\, necklaces and even braided bracelets. It doesn’t matter if this is your first attempt at making homemade jewellery\, as this class is suitable for complete beginners and those with a little more experience.
URL:https://ageconnectstorfaen.org.uk/event/jewellery-making-class-90/
LOCATION:Widdershins Centre\, East Avenue\, Sebastopol\, Griffithstown\, Pontypool\, Torfaen\, NP45AB\, United Kingdom
ATTACH;FMTTYPE=image/jpeg:https://ageconnectstorfaen.org.uk/wp-content/uploads/2022/01/ss1b.jpg
END:VEVENT
BEGIN:VEVENT
DTSTART;TZID=UTC:20240308T120000
DTEND;TZID=UTC:20240308T150000
DTSTAMP:20260420T015505
CREATED:20240222T135303Z
LAST-MODIFIED:20240222T135303Z
UID:3506-1709899200-1709910000@ageconnectstorfaen.org.uk
SUMMARY:Fish & Chip Friday's
DESCRIPTION:Join us in the Bistro every Friday for home made Fish & Chips. \nOnly £6.00
URL:https://ageconnectstorfaen.org.uk/event/fish-chip-fridays-46/
LOCATION:Widdershins Centre\, East Avenue\, Sebastopol\, Griffithstown\, Pontypool\, Torfaen\, NP45AB\, United Kingdom
ATTACH;FMTTYPE=image/png:https://ageconnectstorfaen.org.uk/wp-content/uploads/2023/02/Fish-and-chips-post.png
END:VEVENT
BEGIN:VEVENT
DTSTART;TZID=UTC:20240308T100000
DTEND;TZID=UTC:20240308T130000
DTSTAMP:20260420T015505
CREATED:20240222T103502Z
LAST-MODIFIED:20240222T103502Z
UID:3387-1709892000-1709902800@ageconnectstorfaen.org.uk
SUMMARY:Merry Moments Dementia Programme
DESCRIPTION:Our Merry Moments programme focuses on improving the mental health and emotional well being of older people with memory issues. \nOur programme activities include: \n\nCreative workshops\nGarden parties\nOutdoor sports\nMovies afternoon\nDementia dancing sessions\nLife story work\nAssistive technology\n\nWe get to know individuals by: \n\nMeeting the families\nChatting about hobbies\, finding out where you lived and went to school\nCompleting a personalised “Getting to know me” plan.
URL:https://ageconnectstorfaen.org.uk/event/merry-moments-dementia-programme-300/
LOCATION:Widdershins Centre\, East Avenue\, Sebastopol\, Griffithstown\, Pontypool\, Torfaen\, NP45AB\, United Kingdom
ATTACH;FMTTYPE=image/jpeg:https://ageconnectstorfaen.org.uk/wp-content/uploads/2023/03/image00013-scaled.jpg
END:VEVENT
BEGIN:VEVENT
DTSTART;TZID=UTC:20240308T100000
DTEND;TZID=UTC:20240308T120000
DTSTAMP:20260420T015505
CREATED:20240222T134336Z
LAST-MODIFIED:20240222T134336Z
UID:3495-1709892000-1709899200@ageconnectstorfaen.org.uk
SUMMARY:Computer Class
DESCRIPTION:The rate at which technology is progressing can make us feel as though we’re constantly being left behind. \nTechnology classes for older adults can be a fantastic way to keep up to date with the advances in a supportive learning environment. \nJoin us every Friday from 10-12 at our Widdershins Centre for a fun and friendly session. \nEither bring along your own devices or you can borrow one of ours. Either way with have Digital Champions on hand\, ready to deal with all your queries. \n  \n 
URL:https://ageconnectstorfaen.org.uk/event/computer-class-35/
LOCATION:Widdershins Centre\, East Avenue\, Sebastopol\, Griffithstown\, Pontypool\, Torfaen\, NP45AB\, United Kingdom
ATTACH;FMTTYPE=image/webp:https://ageconnectstorfaen.org.uk/wp-content/uploads/2023/02/retired-senior-man-relaxing-bed-looking-laptop_23-2147859764.webp
END:VEVENT
BEGIN:VEVENT
DTSTART;TZID=UTC:20240307T133000
DTEND;TZID=UTC:20240307T143000
DTSTAMP:20260420T015505
CREATED:20240222T140743Z
LAST-MODIFIED:20240222T140743Z
UID:3524-1709818200-1709821800@ageconnectstorfaen.org.uk
SUMMARY:Toddler and Seniors Together
DESCRIPTION:Join us for an intergenerational dementia session with Singalong with Liz. \nBringing together babies and older people for a joint singing session. \nEnjoy 40 minutes of singing and interaction time with the babies and mums. \nPlaces are limited\, contact 01495 769264 to book a space.
URL:https://ageconnectstorfaen.org.uk/event/toddler-and-seniors-together-13/
LOCATION:Widdershins Centre\, East Avenue\, Sebastopol\, Griffithstown\, Pontypool\, Torfaen\, NP45AB\, United Kingdom
ATTACH;FMTTYPE=image/jpeg:https://ageconnectstorfaen.org.uk/wp-content/uploads/2023/03/1.jpg
END:VEVENT
BEGIN:VEVENT
DTSTART;TZID=UTC:20240307T130000
DTEND;TZID=UTC:20240307T150000
DTSTAMP:20260420T015505
CREATED:20240222T132649Z
LAST-MODIFIED:20240222T132649Z
UID:3484-1709816400-1709823600@ageconnectstorfaen.org.uk
SUMMARY:Jewellery Making Class
DESCRIPTION:If you want to learn all the skills you need to create your very own handmade jewellery to perfectly complement your style then this class is for you. \nOur jewellery making courses are headed by an expert teacher who knows all the tips and tricks behind crafting amazing accessories to complete your look. They’ll guide you on every step of the crafting process\, showing you some of the best techniques used by the professionals along with how to make earrings\, necklaces and even braided bracelets. It doesn’t matter if this is your first attempt at making homemade jewellery\, as this class is suitable for complete beginners and those with a little more experience.
URL:https://ageconnectstorfaen.org.uk/event/jewellery-making-class-85/
LOCATION:Widdershins Centre\, East Avenue\, Sebastopol\, Griffithstown\, Pontypool\, Torfaen\, NP45AB\, United Kingdom
ATTACH;FMTTYPE=image/jpeg:https://ageconnectstorfaen.org.uk/wp-content/uploads/2022/01/ss1b.jpg
END:VEVENT
BEGIN:VEVENT
DTSTART;TZID=UTC:20240307T113000
DTEND;TZID=UTC:20240307T143000
DTSTAMP:20260420T015505
CREATED:20240222T102303Z
LAST-MODIFIED:20240222T102303Z
UID:3362-1709811000-1709821800@ageconnectstorfaen.org.uk
SUMMARY:Merry Moments Dementia Programme
DESCRIPTION:Our Merry Moments programme focuses on improving the mental health and emotional well being of older people with memory issues. \nOur programme activities include: \n\nCreative workshops\nGarden parties\nOutdoor sports\nMovies afternoon\nDementia dancing sessions\nLife story work\nAssistive technology\n\nWe get to know individuals by: \n\nMeeting the families\nChatting about hobbies\, finding out where you lived and went to school\nCompleting a personalised “Getting to know me” plan.
URL:https://ageconnectstorfaen.org.uk/event/merry-moments-dementia-programme-287/
LOCATION:Widdershins Centre\, East Avenue\, Sebastopol\, Griffithstown\, Pontypool\, Torfaen\, NP45AB\, United Kingdom
ATTACH;FMTTYPE=image/jpeg:https://ageconnectstorfaen.org.uk/wp-content/uploads/2023/03/image00013-scaled.jpg
END:VEVENT
BEGIN:VEVENT
DTSTART;TZID=UTC:20240307T113000
DTEND;TZID=UTC:20240307T140000
DTSTAMP:20260420T015505
CREATED:20240222T120426Z
LAST-MODIFIED:20240222T120426Z
UID:3475-1709811000-1709820000@ageconnectstorfaen.org.uk
SUMMARY:Befriending Hub- Croesyceiliog
DESCRIPTION:Our befriending hubs are a great way of keeping older people active and involved in their local community. \nWe run weekly befriending hubs at St Mary’s Church Hall\, Croesyceiliog located at focal points of the local community. They have disabled access and transport can be arranged on request. \nAll befriending hubs are open from 11.30-2.00pm \nA two course lunch club costs £7.00
URL:https://ageconnectstorfaen.org.uk/event/befriending-hub-croesyceiliog-52/
LOCATION:Torfaen
ATTACH;FMTTYPE=image/jpeg:https://ageconnectstorfaen.org.uk/wp-content/uploads/2019/05/john-mark-smith-219066-unsplash.jpg
END:VEVENT
BEGIN:VEVENT
DTSTART;TZID=UTC:20240307T100000
DTEND;TZID=UTC:20240307T130000
DTSTAMP:20260420T015505
CREATED:20240222T103327Z
LAST-MODIFIED:20240222T103327Z
UID:3385-1709805600-1709816400@ageconnectstorfaen.org.uk
SUMMARY:Merry Moments Dementia Programme
DESCRIPTION:Our Merry Moments programme focuses on improving the mental health and emotional well being of older people with memory issues. \nOur programme activities include: \n\nCreative workshops\nGarden parties\nOutdoor sports\nMovies afternoon\nDementia dancing sessions\nLife story work\nAssistive technology\n\nWe get to know individuals by: \n\nMeeting the families\nChatting about hobbies\, finding out where you lived and went to school\nCompleting a personalised “Getting to know me” plan.
URL:https://ageconnectstorfaen.org.uk/event/merry-moments-dementia-programme-299/
LOCATION:Widdershins Centre\, East Avenue\, Sebastopol\, Griffithstown\, Pontypool\, Torfaen\, NP45AB\, United Kingdom
ATTACH;FMTTYPE=image/jpeg:https://ageconnectstorfaen.org.uk/wp-content/uploads/2023/03/image00013-scaled.jpg
END:VEVENT
BEGIN:VEVENT
DTSTART;TZID=UTC:20240306T130000
DTEND;TZID=UTC:20240306T150000
DTSTAMP:20260420T015505
CREATED:20240222T115345Z
LAST-MODIFIED:20240222T115345Z
UID:3467-1709730000-1709737200@ageconnectstorfaen.org.uk
SUMMARY:Ceramics Class
DESCRIPTION:Join us every Wednesday for a relaxing ceramics class. This is a great way to explore ceramic decoration. We stock a wide variety of bisqueware\, which is pottery that has already been fired — or ‘bisqued’ – and is primed for decoration with glazes and underglazes. This means that in order to complete an easy ceramic project\, you simply select the item that you like and then paint it. We then dip the item in our kiln and it is ready for you to take home at your next class. \nWe have a range of bisque shapes available including; animal shapes\, money boxes\, vases\, tiles\, coaters\, dinosaurs\, cups\, mugs and plates.
URL:https://ageconnectstorfaen.org.uk/event/ceramics-class-51/
LOCATION:Widdershins Centre\, East Avenue\, Sebastopol\, Griffithstown\, Pontypool\, Torfaen\, NP45AB\, United Kingdom
ATTACH;FMTTYPE=image/jpeg:https://ageconnectstorfaen.org.uk/wp-content/uploads/2023/02/3.jpg
END:VEVENT
BEGIN:VEVENT
DTSTART;TZID=UTC:20240306T130000
DTEND;TZID=UTC:20240306T140000
DTSTAMP:20260420T015505
CREATED:20240222T113837Z
LAST-MODIFIED:20240222T113837Z
UID:3458-1709730000-1709733600@ageconnectstorfaen.org.uk
SUMMARY:Love to Sing Dementia Choir
DESCRIPTION:If you love singing……we’d love you to join us \nEvery Wednesday 1-2pm at the Widdershins Centre\, Sebastopol NP4 5AB \nYou won’t be asked to audition or read music \nAll you need is a love of singing and a willingness to learn some new songs. \nHave fun\, meet new people and enjoy using that hidden voice of yours. \nFor further details\, please contact Laura Rehman on \n01495 769264 \nlaura.rehman@ageconnectstorfaen.org
URL:https://ageconnectstorfaen.org.uk/event/love-to-sing-dementia-choir-52/
LOCATION:Widdershins Centre\, East Avenue\, Sebastopol\, Griffithstown\, Pontypool\, Torfaen\, NP45AB\, United Kingdom
ATTACH;FMTTYPE=image/jpeg:https://ageconnectstorfaen.org.uk/wp-content/uploads/2023/02/AVE0716-scaled.jpg
END:VEVENT
BEGIN:VEVENT
DTSTART;TZID=UTC:20240306T100000
DTEND;TZID=UTC:20240306T130000
DTSTAMP:20260420T015505
CREATED:20240222T105530Z
LAST-MODIFIED:20240222T105530Z
UID:3410-1709719200-1709730000@ageconnectstorfaen.org.uk
SUMMARY:Young onset Dementia Service- Zest for Life
DESCRIPTION:A supportive group for younger individuals. Suitable for those living with young onset dementia or cognitive impairment. \nWe welcome individuals and carers across Gwent.
URL:https://ageconnectstorfaen.org.uk/event/young-onset-dementia-service-zest-for-life-49/
LOCATION:Widdershins Centre\, East Avenue\, Sebastopol\, Griffithstown\, Pontypool\, Torfaen\, NP45AB\, United Kingdom
ATTACH;FMTTYPE=image/jpeg:https://ageconnectstorfaen.org.uk/wp-content/uploads/2023/02/IMG_2125-scaled.jpg
END:VEVENT
BEGIN:VEVENT
DTSTART;TZID=UTC:20240305T113000
DTEND;TZID=UTC:20240305T143000
DTSTAMP:20260420T015505
CREATED:20240222T102224Z
LAST-MODIFIED:20240222T102224Z
UID:3360-1709638200-1709649000@ageconnectstorfaen.org.uk
SUMMARY:Merry Moments Dementia Programme
DESCRIPTION:Our Merry Moments programme focuses on improving the mental health and emotional well being of older people with memory issues. \nOur programme activities include: \n\nCreative workshops\nGarden parties\nOutdoor sports\nMovies afternoon\nDementia dancing sessions\nLife story work\nAssistive technology\n\nWe get to know individuals by: \n\nMeeting the families\nChatting about hobbies\, finding out where you lived and went to school\nCompleting a personalised “Getting to know me” plan.
URL:https://ageconnectstorfaen.org.uk/event/merry-moments-dementia-programme-286/
LOCATION:Widdershins Centre\, East Avenue\, Sebastopol\, Griffithstown\, Pontypool\, Torfaen\, NP45AB\, United Kingdom
ATTACH;FMTTYPE=image/jpeg:https://ageconnectstorfaen.org.uk/wp-content/uploads/2023/03/image00013-scaled.jpg
END:VEVENT
BEGIN:VEVENT
DTSTART;TZID=UTC:20240305T113000
DTEND;TZID=UTC:20240305T140000
DTSTAMP:20260420T015505
CREATED:20240222T112902Z
LAST-MODIFIED:20240222T112902Z
UID:3442-1709638200-1709647200@ageconnectstorfaen.org.uk
SUMMARY:Befriending Hub- Ponthir
DESCRIPTION:Our befriending hubs are a great way of keeping older people active and involved in their local community. \nWe run weekly befriending hubs at Ponthir Village Hall\, located at focal points of the local community. They have disabled access and transport can be arranged on request. \nAll befriending hubs are open from 11.30-2.00pm \nA two course lunch club costs £7.00
URL:https://ageconnectstorfaen.org.uk/event/befriending-hub-ponthir-50/
LOCATION:Torfaen
ATTACH;FMTTYPE=image/jpeg:https://ageconnectstorfaen.org.uk/wp-content/uploads/2019/05/john-mark-smith-219066-unsplash.jpg
END:VEVENT
BEGIN:VEVENT
DTSTART;TZID=UTC:20240305T103000
DTEND;TZID=UTC:20240305T123000
DTSTAMP:20260420T015505
CREATED:20240222T113407Z
LAST-MODIFIED:20240222T113407Z
UID:3450-1709634600-1709641800@ageconnectstorfaen.org.uk
SUMMARY:Cake Decorating
DESCRIPTION:Join us every Tuesday for fun\, friendly and informative cake decorating classes with Val Landers. Val has over 50 years experience \nWe know that you  may not always have time to prepare for our classes\, so we have made sure that all you need to do is remember to turn up and we will provide everything you need\, plus you will never leave empty handed!
URL:https://ageconnectstorfaen.org.uk/event/cake-decorating-77/
LOCATION:Widdershins Centre\, East Avenue\, Sebastopol\, Griffithstown\, Pontypool\, Torfaen\, NP45AB\, United Kingdom
ATTACH;FMTTYPE=image/jpeg:https://ageconnectstorfaen.org.uk/wp-content/uploads/2023/02/image00034-scaled.jpg
END:VEVENT
BEGIN:VEVENT
DTSTART;TZID=UTC:20240305T100000
DTEND;TZID=UTC:20240305T130000
DTSTAMP:20260420T015505
CREATED:20240222T103158Z
LAST-MODIFIED:20240222T103158Z
UID:3383-1709632800-1709643600@ageconnectstorfaen.org.uk
SUMMARY:Merry Moments Dementia Programme
DESCRIPTION:Our Merry Moments programme focuses on improving the mental health and emotional well being of older people with memory issues. \nOur programme activities include: \n\nCreative workshops\nGarden parties\nOutdoor sports\nMovies afternoon\nDementia dancing sessions\nLife story work\nAssistive technology\n\nWe get to know individuals by: \n\nMeeting the families\nChatting about hobbies\, finding out where you lived and went to school\nCompleting a personalised “Getting to know me” plan.
URL:https://ageconnectstorfaen.org.uk/event/merry-moments-dementia-programme-298/
LOCATION:Widdershins Centre\, East Avenue\, Sebastopol\, Griffithstown\, Pontypool\, Torfaen\, NP45AB\, United Kingdom
ATTACH;FMTTYPE=image/jpeg:https://ageconnectstorfaen.org.uk/wp-content/uploads/2023/03/image00013-scaled.jpg
END:VEVENT
BEGIN:VEVENT
DTSTART;TZID=UTC:20240304T120000
DTEND;TZID=UTC:20240304T160000
DTSTAMP:20260420T015505
CREATED:20240222T111054Z
LAST-MODIFIED:20240222T111054Z
UID:3426-1709553600-1709568000@ageconnectstorfaen.org.uk
SUMMARY:Nail Cutting Surgery
DESCRIPTION:Many of us will develop some foot problems as we age. Over time it can become a significant health issue and impact our ability to get out and about. \nIn partnership with Aneurin Bevan Health Board\, we offer a professional nail cutting service to administer basic foot care services to older people. \nContact us to book an appointment at our Widdershins nail cutting surgery on 01495 769264
URL:https://ageconnectstorfaen.org.uk/event/nail-cutting-surgery-49/
LOCATION:Widdershins Centre\, East Avenue\, Sebastopol\, Griffithstown\, Pontypool\, Torfaen\, NP45AB\, United Kingdom
ATTACH;FMTTYPE=image/jpeg:https://ageconnectstorfaen.org.uk/wp-content/uploads/2023/02/Nail-cutting.jpg
END:VEVENT
BEGIN:VEVENT
DTSTART;TZID=UTC:20240304T120000
DTEND;TZID=UTC:20240304T140000
DTSTAMP:20260420T015505
CREATED:20240222T111907Z
LAST-MODIFIED:20240222T111907Z
UID:3434-1709553600-1709560800@ageconnectstorfaen.org.uk
SUMMARY:Fish & Chip Mondays
DESCRIPTION:Join us in the Bistro every Monday for home made Fish & Chips. \nOnly £6.00
URL:https://ageconnectstorfaen.org.uk/event/fish-chip-mondays-50/
LOCATION:Widdershins Centre\, East Avenue\, Sebastopol\, Griffithstown\, Pontypool\, Torfaen\, NP45AB\, United Kingdom
ATTACH;FMTTYPE=image/png:https://ageconnectstorfaen.org.uk/wp-content/uploads/2023/02/Fish-and-chips-post.png
END:VEVENT
BEGIN:VEVENT
DTSTART;TZID=UTC:20240304T113000
DTEND;TZID=UTC:20240304T143000
DTSTAMP:20260420T015505
CREATED:20240222T102152Z
LAST-MODIFIED:20240222T102152Z
UID:3358-1709551800-1709562600@ageconnectstorfaen.org.uk
SUMMARY:Merry Moments Dementia Programme
DESCRIPTION:Our Merry Moments programme focuses on improving the mental health and emotional well being of older people with memory issues. \nOur programme activities include: \n\nCreative workshops\nGarden parties\nOutdoor sports\nMovies afternoon\nDementia dancing sessions\nLife story work\nAssistive technology\n\nWe get to know individuals by: \n\nMeeting the families\nChatting about hobbies\, finding out where you lived and went to school\nCompleting a personalised “Getting to know me” plan.
URL:https://ageconnectstorfaen.org.uk/event/merry-moments-dementia-programme-285/
LOCATION:Widdershins Centre\, East Avenue\, Sebastopol\, Griffithstown\, Pontypool\, Torfaen\, NP45AB\, United Kingdom
ATTACH;FMTTYPE=image/jpeg:https://ageconnectstorfaen.org.uk/wp-content/uploads/2023/03/image00013-scaled.jpg
END:VEVENT
END:VCALENDAR